BEGIN:VCALENDAR
VERSION:2.0
PRODID:-//Newark Arts Alliance - ECPv6.15.12.2//NONSGML v1.0//EN
CALSCALE:GREGORIAN
METHOD:PUBLISH
X-ORIGINAL-URL:https://www.newarkartsalliance.org
X-WR-CALDESC:Events for Newark Arts Alliance
REFRESH-INTERVAL;VALUE=DURATION:PT1H
X-Robots-Tag:noindex
X-PUBLISHED-TTL:PT1H
BEGIN:VTIMEZONE
TZID:America/New_York
BEGIN:DAYLIGHT
TZOFFSETFROM:-0500
TZOFFSETTO:-0400
TZNAME:EDT
DTSTART:20240310T070000
END:DAYLIGHT
BEGIN:STANDARD
TZOFFSETFROM:-0400
TZOFFSETTO:-0500
TZNAME:EST
DTSTART:20241103T060000
END:STANDARD
BEGIN:DAYLIGHT
TZOFFSETFROM:-0500
TZOFFSETTO:-0400
TZNAME:EDT
DTSTART:20250309T070000
END:DAYLIGHT
BEGIN:STANDARD
TZOFFSETFROM:-0400
TZOFFSETTO:-0500
TZNAME:EST
DTSTART:20251102T060000
END:STANDARD
BEGIN:DAYLIGHT
TZOFFSETFROM:-0500
TZOFFSETTO:-0400
TZNAME:EDT
DTSTART:20260308T070000
END:DAYLIGHT
BEGIN:STANDARD
TZOFFSETFROM:-0400
TZOFFSETTO:-0500
TZNAME:EST
DTSTART:20261101T060000
END:STANDARD
END:VTIMEZONE
BEGIN:VEVENT
DTSTART;TZID=America/New_York:20250722T120000
DTEND;TZID=America/New_York:20250815T193000
DTSTAMP:20260419T204156
CREATED:20250331T222544Z
LAST-MODIFIED:20250624T191209Z
UID:16673-1753185600-1755286200@www.newarkartsalliance.org
SUMMARY:Exhibition - Grids and Galaxies
DESCRIPTION:Grids And Galaxies \nOpens July 22nd\, 2025 \nShow Reception Friday\, August 8th\, 2025 Time: 6-8pm \nA duo show with paintings by Stacey Hendrix and Lego wall art by Jason Olney. \nExhibition to happen July 22nd – August 15th\, 2025
URL:https://www.newarkartsalliance.org/event/exhibition-grids-galaxies/
LOCATION:Newark Arts Alliance\, 207 Louviers Dr.\, Newark\, DE\, 19711\, United States
CATEGORIES:Exhibits
ATTACH;FMTTYPE=image/jpeg:https://www.newarkartsalliance.org/wp-content/uploads/2025/06/grids-galaxies-exhibit-2.jpg
ORGANIZER;CN="Newark Arts Alliance":MAILTO:Info@newarkartsalliance.org
END:VEVENT
END:VCALENDAR