BEGIN:VCALENDAR
VERSION:2.0
PRODID:-//Newark Arts Alliance - ECPv6.15.12.2//NONSGML v1.0//EN
CALSCALE:GREGORIAN
METHOD:PUBLISH
X-ORIGINAL-URL:https://www.newarkartsalliance.org
X-WR-CALDESC:Events for Newark Arts Alliance
REFRESH-INTERVAL;VALUE=DURATION:PT1H
X-Robots-Tag:noindex
X-PUBLISHED-TTL:PT1H
BEGIN:VTIMEZONE
TZID:America/New_York
BEGIN:DAYLIGHT
TZOFFSETFROM:-0500
TZOFFSETTO:-0400
TZNAME:EDT
DTSTART:20250309T070000
END:DAYLIGHT
BEGIN:STANDARD
TZOFFSETFROM:-0400
TZOFFSETTO:-0500
TZNAME:EST
DTSTART:20251102T060000
END:STANDARD
BEGIN:DAYLIGHT
TZOFFSETFROM:-0500
TZOFFSETTO:-0400
TZNAME:EDT
DTSTART:20260308T070000
END:DAYLIGHT
BEGIN:STANDARD
TZOFFSETFROM:-0400
TZOFFSETTO:-0500
TZNAME:EST
DTSTART:20261101T060000
END:STANDARD
BEGIN:DAYLIGHT
TZOFFSETFROM:-0500
TZOFFSETTO:-0400
TZNAME:EDT
DTSTART:20270314T070000
END:DAYLIGHT
BEGIN:STANDARD
TZOFFSETFROM:-0400
TZOFFSETTO:-0500
TZNAME:EST
DTSTART:20271107T060000
END:STANDARD
END:VTIMEZONE
BEGIN:VEVENT
DTSTART;TZID=America/New_York:20260519T120000
DTEND;TZID=America/New_York:20260619T193000
DTSTAMP:20260419T092655
CREATED:20260104T164936Z
LAST-MODIFIED:20260104T164936Z
UID:17180-1779192000-1781897400@www.newarkartsalliance.org
SUMMARY:Exhibition - Preliminary to Refined
DESCRIPTION:Preliminary To Refined \nInitial study displayed with a more complex piece \nExhibition on view: May 19th – June 19th\, 2026\nReception: Friday\, June 12th\, 6- 8pm
URL:https://www.newarkartsalliance.org/event/exhibition-preliminary-to-refined/
LOCATION:Newark Arts Alliance\, 207 Louviers Dr.\, Newark\, DE\, 19711\, United States
CATEGORIES:Exhibits
ATTACH;FMTTYPE=image/jpeg:https://www.newarkartsalliance.org/wp-content/uploads/2025/07/art-exhibition.jpg
ORGANIZER;CN="Newark Arts Alliance":MAILTO:Info@newarkartsalliance.org
END:VEVENT
BEGIN:VEVENT
DTSTART;TZID=America/New_York:20260522T160000
DTEND;TZID=America/New_York:20260523T200000
DTSTAMP:20260419T092655
CREATED:20260404T214627Z
LAST-MODIFIED:20260418T153404Z
UID:17314-1779465600-1779566400@www.newarkartsalliance.org
SUMMARY:Art Rummage Sale 2026
DESCRIPTION:The Arts Alliance is looking through our supplies for items we don’t use. And local artists can also look in their storage areas. Paint\, glue\, tools\, yarn\, buttons\, clothing\, frames\, mats\, unfinished or unframed art\, etc. Items will be for sale at the Newark Arts Alliance Fri 5/22 4pm – 8pm and Sat 5/23 at least 12 – 4 pm. Possible extended hours on Sat or Sun 5/24 depending on donations. \nAre you an artist looking for supplies or inspiration for a project? Do you have art supplies you want to donate to the Arts Alliance to sell? Do you have art supplies or tools you want to sell? We can work with you.\nContact Becky about donations or questions at re_sullivan@yahoo.com
URL:https://www.newarkartsalliance.org/event/art-rummage-sale-2026/
ATTACH;FMTTYPE=image/jpeg:https://www.newarkartsalliance.org/wp-content/uploads/2026/04/summer_rummage_long.jpg
END:VEVENT
END:VCALENDAR