BEGIN:VCALENDAR
VERSION:2.0
PRODID:-//Newark Arts Alliance - ECPv6.15.12.2//NONSGML v1.0//EN
CALSCALE:GREGORIAN
METHOD:PUBLISH
X-WR-CALNAME:Newark Arts Alliance
X-ORIGINAL-URL:https://www.newarkartsalliance.org
X-WR-CALDESC:Events for Newark Arts Alliance
REFRESH-INTERVAL;VALUE=DURATION:PT1H
X-Robots-Tag:noindex
X-PUBLISHED-TTL:PT1H
BEGIN:VTIMEZONE
TZID:America/New_York
BEGIN:DAYLIGHT
TZOFFSETFROM:-0500
TZOFFSETTO:-0400
TZNAME:EDT
DTSTART:20250309T070000
END:DAYLIGHT
BEGIN:STANDARD
TZOFFSETFROM:-0400
TZOFFSETTO:-0500
TZNAME:EST
DTSTART:20251102T060000
END:STANDARD
BEGIN:DAYLIGHT
TZOFFSETFROM:-0500
TZOFFSETTO:-0400
TZNAME:EDT
DTSTART:20260308T070000
END:DAYLIGHT
BEGIN:STANDARD
TZOFFSETFROM:-0400
TZOFFSETTO:-0500
TZNAME:EST
DTSTART:20261101T060000
END:STANDARD
BEGIN:DAYLIGHT
TZOFFSETFROM:-0500
TZOFFSETTO:-0400
TZNAME:EDT
DTSTART:20270314T070000
END:DAYLIGHT
BEGIN:STANDARD
TZOFFSETFROM:-0400
TZOFFSETTO:-0500
TZNAME:EST
DTSTART:20271107T060000
END:STANDARD
END:VTIMEZONE
BEGIN:VEVENT
DTSTART;TZID=America/New_York:20260421T120000
DTEND;TZID=America/New_York:20260515T193000
DTSTAMP:20260419T075026
CREATED:20260104T163937Z
LAST-MODIFIED:20260309T174258Z
UID:17174-1776772800-1778873400@www.newarkartsalliance.org
SUMMARY:Exhibition - Shared Spectrum: Maureen Kamerick and Yolanda Chetwynd
DESCRIPTION:Shared Spectrum: Maureen Kamerick and Yolanda Chetwynd \nExhibition on view: April 21st – May 15\, 2026\nReception: Friday\, May 8th\, 6- 8pm
URL:https://www.newarkartsalliance.org/event/exhibition-shared-spectrum/
LOCATION:Newark Arts Alliance\, 207 Louviers Dr.\, Newark\, DE\, 19711\, United States
CATEGORIES:Exhibits
ATTACH;FMTTYPE=image/jpeg:https://www.newarkartsalliance.org/wp-content/uploads/2026/01/04-sharedspectrum-reception-dvd.jpg
ORGANIZER;CN="Newark Arts Alliance":MAILTO:Info@newarkartsalliance.org
END:VEVENT
BEGIN:VEVENT
DTSTART;TZID=America/New_York:20260508T180000
DTEND;TZID=America/New_York:20260508T200000
DTSTAMP:20260419T075026
CREATED:20260104T164214Z
LAST-MODIFIED:20260309T173949Z
UID:17176-1778263200-1778270400@www.newarkartsalliance.org
SUMMARY:Show Reception - Shared Spectrum
DESCRIPTION:Shared Spectrum: Maureen Kamerick and Yolanda Chetwynd \nExhibition on view: April 21st – May 15\, 2026\nReception: Friday\, May 8th\, 6- 8pm
URL:https://www.newarkartsalliance.org/event/show-reception-shared-spectrum/
LOCATION:Newark Arts Alliance\, 207 Louviers Dr.\, Newark\, DE\, 19711\, United States
CATEGORIES:Events,Exhibits
ATTACH;FMTTYPE=image/jpeg:https://www.newarkartsalliance.org/wp-content/uploads/2026/01/04-sharedspectrum-reception-dvd.jpg
ORGANIZER;CN="Newark Arts Alliance":MAILTO:Info@newarkartsalliance.org
END:VEVENT
BEGIN:VEVENT
DTSTART;TZID=America/New_York:20260515T120000
DTEND;TZID=America/New_York:20260516T160000
DTSTAMP:20260419T075026
CREATED:20251221T154543Z
LAST-MODIFIED:20260215T231405Z
UID:17150-1778846400-1778947200@www.newarkartsalliance.org
SUMMARY:Calls for Entry - Preliminary to Refined
DESCRIPTION:Call for Art for the ‘Preliminary To Refined’ \nSubmissions accepted: Friday May 15 & Saturday May 16 \n\nArtwork in any medium\, subject matter or style\, either 2D or 3D  \nBring a smaller preliminary sketch\, initial study to also be displayed with a more refined complex piece of art\nSubmissions up to 3 pairs per artist\nSize no larger than 36″wide for 2D wall art\nAll items wired for hanging! No tape holding wires!\nThe refined piece of 3D sculpture or crafts no larger than 20 inches diameter\, unless freestanding without pedestal\n\nPlease click the link below to go to our Exhibit page for more information about artwork hanging requirements and download the “Artwork Submission Form”. \nhttps://www.newarkartsalliance.org/exhibits/
URL:https://www.newarkartsalliance.org/event/calls-for-entry-preliminary/
LOCATION:Newark Arts Alliance\, 207 Louviers Dr.\, Newark\, DE\, 19711\, United States
CATEGORIES:Calls for Entry
ATTACH;FMTTYPE=image/jpeg:https://www.newarkartsalliance.org/wp-content/uploads/2026/01/art-open-call-pre-to-refined-exhibit-ver1.jpg
ORGANIZER;CN="Newark Arts Alliance":MAILTO:Info@newarkartsalliance.org
END:VEVENT
BEGIN:VEVENT
DTSTART;TZID=America/New_York:20260519T120000
DTEND;TZID=America/New_York:20260619T193000
DTSTAMP:20260419T075026
CREATED:20260104T164936Z
LAST-MODIFIED:20260104T164936Z
UID:17180-1779192000-1781897400@www.newarkartsalliance.org
SUMMARY:Exhibition - Preliminary to Refined
DESCRIPTION:Preliminary To Refined \nInitial study displayed with a more complex piece \nExhibition on view: May 19th – June 19th\, 2026\nReception: Friday\, June 12th\, 6- 8pm
URL:https://www.newarkartsalliance.org/event/exhibition-preliminary-to-refined/
LOCATION:Newark Arts Alliance\, 207 Louviers Dr.\, Newark\, DE\, 19711\, United States
CATEGORIES:Exhibits
ATTACH;FMTTYPE=image/jpeg:https://www.newarkartsalliance.org/wp-content/uploads/2025/07/art-exhibition.jpg
ORGANIZER;CN="Newark Arts Alliance":MAILTO:Info@newarkartsalliance.org
END:VEVENT
BEGIN:VEVENT
DTSTART;TZID=America/New_York:20260522T160000
DTEND;TZID=America/New_York:20260523T200000
DTSTAMP:20260419T075026
CREATED:20260404T214627Z
LAST-MODIFIED:20260418T153404Z
UID:17314-1779465600-1779566400@www.newarkartsalliance.org
SUMMARY:Art Rummage Sale 2026
DESCRIPTION:The Arts Alliance is looking through our supplies for items we don’t use. And local artists can also look in their storage areas. Paint\, glue\, tools\, yarn\, buttons\, clothing\, frames\, mats\, unfinished or unframed art\, etc. Items will be for sale at the Newark Arts Alliance Fri 5/22 4pm – 8pm and Sat 5/23 at least 12 – 4 pm. Possible extended hours on Sat or Sun 5/24 depending on donations. \nAre you an artist looking for supplies or inspiration for a project? Do you have art supplies you want to donate to the Arts Alliance to sell? Do you have art supplies or tools you want to sell? We can work with you.\nContact Becky about donations or questions at re_sullivan@yahoo.com
URL:https://www.newarkartsalliance.org/event/art-rummage-sale-2026/
ATTACH;FMTTYPE=image/jpeg:https://www.newarkartsalliance.org/wp-content/uploads/2026/04/summer_rummage_long.jpg
END:VEVENT
END:VCALENDAR